BEGIN:VCALENDAR
VERSION:2.0
PRODID:-//Luke Perone - ECPv6.15.13//NONSGML v1.0//EN
CALSCALE:GREGORIAN
METHOD:PUBLISH
X-WR-CALNAME:Luke Perone
X-ORIGINAL-URL:https://lukeperone.com
X-WR-CALDESC:Events for Luke Perone
REFRESH-INTERVAL;VALUE=DURATION:PT1H
X-Robots-Tag:noindex
X-PUBLISHED-TTL:PT1H
BEGIN:VTIMEZONE
TZID:America/New_York
BEGIN:DAYLIGHT
TZOFFSETFROM:-0500
TZOFFSETTO:-0400
TZNAME:EDT
DTSTART:20240310T070000
END:DAYLIGHT
BEGIN:STANDARD
TZOFFSETFROM:-0400
TZOFFSETTO:-0500
TZNAME:EST
DTSTART:20241103T060000
END:STANDARD
BEGIN:DAYLIGHT
TZOFFSETFROM:-0500
TZOFFSETTO:-0400
TZNAME:EDT
DTSTART:20250309T070000
END:DAYLIGHT
BEGIN:STANDARD
TZOFFSETFROM:-0400
TZOFFSETTO:-0500
TZNAME:EST
DTSTART:20251102T060000
END:STANDARD
BEGIN:DAYLIGHT
TZOFFSETFROM:-0500
TZOFFSETTO:-0400
TZNAME:EDT
DTSTART:20260308T070000
END:DAYLIGHT
BEGIN:STANDARD
TZOFFSETFROM:-0400
TZOFFSETTO:-0500
TZNAME:EST
DTSTART:20261101T060000
END:STANDARD
END:VTIMEZONE
BEGIN:VEVENT
DTSTART;TZID=America/New_York:20251125T160000
DTEND;TZID=America/New_York:20251125T173000
DTSTAMP:20260421T232228
CREATED:20251009T000342Z
LAST-MODIFIED:20251011T205215Z
UID:1164-1764086400-1764091800@lukeperone.com
SUMMARY:Having Feelings?
DESCRIPTION:via GIPHY \n\n\n	\n		\n	\n\n\n	\n								\n		\n\n			\n	\n	Fall Publication Celebration\nCelebrate the official launch of Improvising With and In Higher Education: All Together Now at our second virtual gathering! This event honors the successful release of the eBook and the hard copy of the book. Join us for an informal\, playful\, and collaborative session to connect with the book's community and celebrate the movement it builds with. Whether you've been involved from the start or are newly curious about improvisation in higher education\, you are invited! Join us whenever and for however long you like.
URL:https://lukeperone.com/community/having-feelings-november-2025/
LOCATION:On Zoom
ATTACH;FMTTYPE=image/jpeg:https://lukeperone.com/wp-content/uploads/2025/04/HAVING-fEELINGS-.ongoing.jpg
ORGANIZER;CN="Luke Perone":MAILTO:luke@lukeperone.com
END:VEVENT
END:VCALENDAR