BEGIN:VCALENDAR
VERSION:2.0
PRODID:-//Luke Perone - ECPv6.15.13//NONSGML v1.0//EN
CALSCALE:GREGORIAN
METHOD:PUBLISH
X-WR-CALNAME:Luke Perone
X-ORIGINAL-URL:https://lukeperone.com
X-WR-CALDESC:Events for Luke Perone
REFRESH-INTERVAL;VALUE=DURATION:PT1H
X-Robots-Tag:noindex
X-PUBLISHED-TTL:PT1H
BEGIN:VTIMEZONE
TZID:America/New_York
BEGIN:DAYLIGHT
TZOFFSETFROM:-0500
TZOFFSETTO:-0400
TZNAME:EDT
DTSTART:20240310T070000
END:DAYLIGHT
BEGIN:STANDARD
TZOFFSETFROM:-0400
TZOFFSETTO:-0500
TZNAME:EST
DTSTART:20241103T060000
END:STANDARD
BEGIN:DAYLIGHT
TZOFFSETFROM:-0500
TZOFFSETTO:-0400
TZNAME:EDT
DTSTART:20250309T070000
END:DAYLIGHT
BEGIN:STANDARD
TZOFFSETFROM:-0400
TZOFFSETTO:-0500
TZNAME:EST
DTSTART:20251102T060000
END:STANDARD
BEGIN:DAYLIGHT
TZOFFSETFROM:-0500
TZOFFSETTO:-0400
TZNAME:EDT
DTSTART:20260308T070000
END:DAYLIGHT
BEGIN:STANDARD
TZOFFSETFROM:-0400
TZOFFSETTO:-0500
TZNAME:EST
DTSTART:20261101T060000
END:STANDARD
END:VTIMEZONE
BEGIN:VEVENT
DTSTART;TZID=America/New_York:20251230T160000
DTEND;TZID=America/New_York:20251230T173000
DTSTAMP:20260419T162820
CREATED:20251009T000847Z
LAST-MODIFIED:20251011T210928Z
UID:1168-1767110400-1767115800@lukeperone.com
SUMMARY:Having Feelings?
DESCRIPTION:Free Group Session with the Lukes! \nThe Last Tuesday of the Month. Live on Zoom! \nLuke Perone and Luke Scaros’ Online Social Therapeutic Space. Join us and help build an online community!
URL:https://lukeperone.com/community/having-feelings-december-2025/
LOCATION:On Zoom
ATTACH;FMTTYPE=image/jpeg:https://lukeperone.com/wp-content/uploads/2025/04/HAVING-fEELINGS-.ongoing.jpg
ORGANIZER;CN="Luke Perone":MAILTO:luke@lukeperone.com
END:VEVENT
END:VCALENDAR